BEGIN:VCALENDAR
VERSION:2.0
PRODID:-//ZContent.net//ZapCalLib 1.0//EN
CALSCALE:GREGORIAN
METHOD:PUBLISH
BEGIN:VEVENT
SUMMARY:Invitation and introduction
DTSTART:20260519T150000
DTEND:20260519T170500
UID:Invitation and introduction60551_1776958276
DTSTAMP:20260423T153116
Description:
END:VEVENT
END:VCALENDAR
