BEGIN:VCALENDAR
VERSION:2.0
PRODID:-//ZContent.net//ZapCalLib 1.0//EN
CALSCALE:GREGORIAN
METHOD:PUBLISH
BEGIN:VEVENT
SUMMARY:Beyond Clinical Trials: <strong>The Role of Real‑World Evidence i
 n Contemporary Breast Cancer Care</strong>
DTSTART:20260519T155500
DTEND:20260519T182000
UID:Beyond Clinical Trials: <strong>The Role of Real‑World Evidence in Co
 ntemporary Breast Cancer Care</strong>60556_1776958272
DTSTAMP:20260423T153112
Description:
END:VEVENT
END:VCALENDAR
